BEGIN:VCALENDAR
VERSION:2.0
PRODID:-//wp-events-plugin.com//7.0.5//EN
TZID:Europe/London
X-WR-TIMEZONE:Europe/London
BEGIN:VEVENT
UID:47@shbbvtayside.co.uk
DTSTART;TZID=Europe/London:20260514T090000
DTEND;TZID=Europe/London:20260514T130000
DTSTAMP:20260218T124224Z
URL:https://shbbvtayside.co.uk/events/healthy-relationships-consent-and-th
 e-law-2/
SUMMARY:Healthy Relationships\, Consent and the Law: Supporting Young Peopl
 e to Make Positive Choices
DESCRIPTION:Healthy Relationships\, Consent and the Law: Supporting Young P
 eople to Make Positive Choices \n\nMethod of Delivery: Face-to-Face.  Br
 uce House\, Wellgate\, Arbroath\n\nDate &amp\; Time: Thursday 14th May 9.0
 0am - 1.00pm\n\nFacilitated by: Linzi McKerrecher and Adrienne Dale from S
 exual Health &amp\; BBV MCN\n\nAssessment: Post-course evaluation survey\n
 \nTarget Group: Professionals working with young people\n\nMaximum Number 
 of Participants:  20\n\nAim \n\nTo explore the concepts of consent and he
 althy relationships as they relate to young people\, including aspects of 
 the law and ethical approaches to understanding this topic.\n\nOn completi
 ng the training participants will\n\n 	Have increased knowledge and compre
 hension on consent\, the law and healthy relationships\n 	Have increased k
 nowledge of the Scottish Government resource: “Key Messages for Young Pe
 ople on Healthy Relationships and Consent” and how this can be used to e
 nhance practice.\n 	Have explored young people’s experiences around cons
 ent\, the law and healthy relationships and gained confidence in applying 
 this knowledge to practice.\n 	Have more information on resources that can
  support this work with young people in a group or 1 to 1 setting\n\nPleas
 e fill in the form below to book. If you have any issues\, email tay.bbvmc
 n@nhs.scot\n\n&nbsp\;\n\n&nbsp\;
LOCATION:Bruce House\, Wellgate\, Arbroath\, United Kingdom
X-APPLE-STRUCTURED-LOCATION;VALUE=URI;X-ADDRESS=Wellgate\, Arbroath\, Unite
 d Kingdom;X-APPLE-RADIUS=100;X-TITLE=Bruce House:geo:0,0
END:VEVENT
BEGIN:VTIMEZONE
TZID:Europe/London
X-LIC-LOCATION:Europe/London
BEGIN:DAYLIGHT
DTSTART:20260329T020000
TZOFFSETFROM:+0000
TZOFFSETTO:+0100
TZNAME:BST
END:DAYLIGHT
END:VTIMEZONE
END:VCALENDAR